BEGIN:VCALENDAR
VERSION:2.0
PRODID:-//jEvents 2.0 for Joomla//EN
CALSCALE:GREGORIAN
METHOD:PUBLISH
BEGIN:VTIMEZONE
TZID:Europe/Berlin
BEGIN:STANDARD
DTSTART:20240128T193000
RDATE:20240331T030000
TZOFFSETFROM:+0200
TZOFFSETTO:+0100
TZNAME:Europe/Berlin CET
END:STANDARD
BEGIN:STANDARD
DTSTART:20241027T020000
RDATE:20250330T030000
TZOFFSETFROM:+0200
TZOFFSETTO:+0100
TZNAME:Europe/Berlin CET
END:STANDARD
BEGIN:STANDARD
DTSTART:20251026T020000
RDATE:20260329T030000
TZOFFSETFROM:+0200
TZOFFSETTO:+0100
TZNAME:Europe/Berlin CET
END:STANDARD
BEGIN:STANDARD
DTSTART:20261025T020000
RDATE:20270328T030000
TZOFFSETFROM:+0200
TZOFFSETTO:+0100
TZNAME:Europe/Berlin CET
END:STANDARD
BEGIN:STANDARD
DTSTART:20271031T020000
RDATE:20280326T030000
TZOFFSETFROM:+0200
TZOFFSETTO:+0100
TZNAME:Europe/Berlin CET
END:STANDARD
BEGIN:STANDARD
DTSTART:20281029T020000
RDATE:20290325T030000
TZOFFSETFROM:+0200
TZOFFSETTO:+0100
TZNAME:Europe/Berlin CET
END:STANDARD
BEGIN:STANDARD
DTSTART:20291028T020000
RDATE:20300331T030000
TZOFFSETFROM:+0200
TZOFFSETTO:+0100
TZNAME:Europe/Berlin CET
END:STANDARD
BEGIN:STANDARD
DTSTART:20301027T020000
RDATE:20310330T030000
TZOFFSETFROM:+0200
TZOFFSETTO:+0100
TZNAME:Europe/Berlin CET
END:STANDARD
BEGIN:STANDARD
DTSTART:20311026T020000
RDATE:20320328T030000
TZOFFSETFROM:+0200
TZOFFSETTO:+0100
TZNAME:Europe/Berlin CET
END:STANDARD
BEGIN:STANDARD
DTSTART:20321031T020000
RDATE:20330327T030000
TZOFFSETFROM:+0200
TZOFFSETTO:+0100
TZNAME:Europe/Berlin CET
END:STANDARD
BEGIN:STANDARD
DTSTART:20331030T020000
RDATE:20340326T030000
TZOFFSETFROM:+0200
TZOFFSETTO:+0100
TZNAME:Europe/Berlin CET
END:STANDARD
BEGIN:STANDARD
DTSTART:20341029T020000
RDATE:20350325T030000
TZOFFSETFROM:+0200
TZOFFSETTO:+0100
TZNAME:Europe/Berlin CET
END:STANDARD
BEGIN:STANDARD
DTSTART:20351028T020000
RDATE:20360330T030000
TZOFFSETFROM:+0200
TZOFFSETTO:+0100
TZNAME:Europe/Berlin CET
END:STANDARD
BEGIN:STANDARD
DTSTART:20361026T020000
RDATE:20370329T030000
TZOFFSETFROM:+0200
TZOFFSETTO:+0100
TZNAME:Europe/Berlin CET
END:STANDARD
BEGIN:STANDARD
DTSTART:20371025T020000
TZOFFSETFROM:+0200
TZOFFSETTO:+0100
TZNAME:Europe/Berlin CET
END:STANDARD
BEGIN:DAYLIGHT
DTSTART:20240331T030000
RDATE:20241027T020000
TZOFFSETFROM:+0100
TZOFFSETTO:+0200
TZNAME:Europe/Berlin CEST
END:DAYLIGHT
BEGIN:DAYLIGHT
DTSTART:20250330T030000
RDATE:20251026T020000
TZOFFSETFROM:+0100
TZOFFSETTO:+0200
TZNAME:Europe/Berlin CEST
END:DAYLIGHT
BEGIN:DAYLIGHT
DTSTART:20260329T030000
RDATE:20261025T020000
TZOFFSETFROM:+0100
TZOFFSETTO:+0200
TZNAME:Europe/Berlin CEST
END:DAYLIGHT
BEGIN:DAYLIGHT
DTSTART:20270328T030000
RDATE:20271031T020000
TZOFFSETFROM:+0100
TZOFFSETTO:+0200
TZNAME:Europe/Berlin CEST
END:DAYLIGHT
BEGIN:DAYLIGHT
DTSTART:20280326T030000
RDATE:20281029T020000
TZOFFSETFROM:+0100
TZOFFSETTO:+0200
TZNAME:Europe/Berlin CEST
END:DAYLIGHT
BEGIN:DAYLIGHT
DTSTART:20290325T030000
RDATE:20291028T020000
TZOFFSETFROM:+0100
TZOFFSETTO:+0200
TZNAME:Europe/Berlin CEST
END:DAYLIGHT
BEGIN:DAYLIGHT
DTSTART:20300331T030000
RDATE:20301027T020000
TZOFFSETFROM:+0100
TZOFFSETTO:+0200
TZNAME:Europe/Berlin CEST
END:DAYLIGHT
BEGIN:DAYLIGHT
DTSTART:20310330T030000
RDATE:20311026T020000
TZOFFSETFROM:+0100
TZOFFSETTO:+0200
TZNAME:Europe/Berlin CEST
END:DAYLIGHT
BEGIN:DAYLIGHT
DTSTART:20320328T030000
RDATE:20321031T020000
TZOFFSETFROM:+0100
TZOFFSETTO:+0200
TZNAME:Europe/Berlin CEST
END:DAYLIGHT
BEGIN:DAYLIGHT
DTSTART:20330327T030000
RDATE:20331030T020000
TZOFFSETFROM:+0100
TZOFFSETTO:+0200
TZNAME:Europe/Berlin CEST
END:DAYLIGHT
BEGIN:DAYLIGHT
DTSTART:20340326T030000
RDATE:20341029T020000
TZOFFSETFROM:+0100
TZOFFSETTO:+0200
TZNAME:Europe/Berlin CEST
END:DAYLIGHT
BEGIN:DAYLIGHT
DTSTART:20350325T030000
RDATE:20351028T020000
TZOFFSETFROM:+0100
TZOFFSETTO:+0200
TZNAME:Europe/Berlin CEST
END:DAYLIGHT
BEGIN:DAYLIGHT
DTSTART:20360330T030000
RDATE:20361026T020000
TZOFFSETFROM:+0100
TZOFFSETTO:+0200
TZNAME:Europe/Berlin CEST
END:DAYLIGHT
BEGIN:DAYLIGHT
DTSTART:20370329T030000
RDATE:20371025T020000
TZOFFSETFROM:+0100
TZOFFSETTO:+0200
TZNAME:Europe/Berlin CEST
END:DAYLIGHT
END:VTIMEZONE
BEGIN:VEVENT
UID:9329a91abdd60a5fbe7a07e414cb318a
CATEGORIES:Regionalgruppe Nürnberg
CREATED:20240915T222554
SUMMARY:DGS-3D-Stereotreff Nürnberg
DESCRIPTION:<p>Liebe Stereofreunde,</p><p>hiermit laden wir Euch zum ersten Treffen im 
 neuen Jahr am Dienstag den 28.01.2025 ein.</p><p>Mit dem neunen Jahr stehen
  auch die eine oder andere Änderung im Programm auf dem Plan.</p><p>Da uns 
 langjähriger Gastwirt zum Jahresende 2024 die Segel gestrichen hat, treffen
  wir ums ab 18:00 Uhr in der<br />Vereinsgaststätte des DJK Eibach in der P
 ommernstr. 12, 90451 Nürnberg zum gemeinsamen Abendessen.</p><p>Ab 19.30 Uh
 r sind wir dann im Kulturladen Röthenbach, Röthenbacher Hauptstraße 74, 904
 49 Nürnberg zu Gast.</p><p>Unser erstes Treffen im Jahr 2025 steht ganz im 
 Zeichen des Jahresthemas 2024 "Bäume".</p><p>Aus diesem Grund mochte ich al
 le Mitglieder des DGS-3D-Stereotreff Nürnberg ultimativ daran erinnern, das
 s der 28.01.2025 der endgültige Abgabetermin für Eure Bilder zum Jahresthem
 a 2024 "Bäume" ist.</p><p>Wer möchte oder keine Möglichkeit hat am genannte
 n Termin sein Bildmaterial mitzubringen, kann mir diese direkt per Mail ode
 r idealerweise per Upload-Link (z.B. T-Online Cloude, Dropbox usw.) zusende
 n bzw. zum herunterladen zur Verfügung stellen. Je früher die Bilder vorlie
 gen, umso besser.</p><p>Ich bitte die folgenden Vorgaben zu berücksichtigen
 :<br />----------------------------------------------------</p><ul><li>Bild
 format: JPG-Datei oder MPO-Datei</li><li>Bildmontage: side-by-side (Links/R
 echts-montiert) oder MPO</li><li>Bildgröße: 3840 x 2160 Pixel (d.h. bei sid
 e-by-side - Montage: 7680 x 2160 Pixel)</li><li>Seitenverhältnis der Bilder
 : 16:9</li><li>Es werden Bildsequenzen oder Bildsammlungen ähnlicher Motive
  gesucht. Es ist hilfreich, wenn Ihr Euere Bilder thematisch ordnet und aus
 sagekräftige Titel vergebt, wie z.B. "Tanzbäume", "Winterbäume" und so weit
 er.</li><li>Bei diesem Jahresthema gibt es diesmal kein festes Limit an Bil
 dern pro Teilnehmer. Es können auch mehrere Bildsequenzen oder Bildsammlung
 en pro Teilnehmer eingereicht werden.</li></ul><p>Gemeinsam werden wir bei 
 unserem Treffen das Bildmaterial sichten und eine Auswahl für unsere Show t
 reffen.</p><p>Wer jetzt schon eine zündende Idee für den Vorspann unserer S
 how hat, möge sich bitte bei mir melden.</p><p>Für unser Treffen steht die 
 Wahl eines neuen Jahresthema für 2025 auf unserem Programm.<br />Diesmal mö
 chte ich alle Mitglieder des DGS-3D-Stereotreff bitten Vorschläge per Mail 
 an mich bis 16.02.2025 zusenden.<br />Die Vorschläge werden gesammelt. Ansc
 hließend veröffentlichen wir diese Vorschlagsliste per Mail an unsere Mitgl
 ieder.<br />Bis zu unserem Treffen im Februar, kann dann jedes Mitglied per
  Email seine Wahl treffen.<br />Bei unserem Treffen am 25.02.2025 wird dann
  das Wahlergebnis bekannt gegeben.</p><p>Als Ergänzung oder Alternative zu 
 einem Jahresthema könnte auch ein gemeinsames Show-Projekt 2025 von unserer
  Gruppe in Angriff genommen werden...<br /> Wie wäre es mit der Bebilderung
  eines Gedichtes oder einer Kurzgeschichte im Stile eines Foto-Romans bzw. 
 Comicstrips?</p><p>Ich hoffe auf eine rege Teilnahme und wünsche Euch allen
  "eine gute Zeit".</p><p>Mit freundlichen Grüßen</p><p>Kai Rechtenbach</p><
 p>1. Vorsitzender des DGS-3D-Stereotreff Nürnberg</p>
DTSTAMP:20260419T223820
DTSTART;TZID=Europe/Berlin:20250128T193000
DTEND;TZID=Europe/Berlin:20250128T220000
SEQUENCE:0
TRANSP:OPAQUE
END:VEVENT
END:VCALENDAR