BEGIN:VCALENDAR
VERSION:2.0
PRODID:-//jEvents 2.0 for Joomla//EN
CALSCALE:GREGORIAN
METHOD:PUBLISH
BEGIN:VTIMEZONE
TZID:Europe/Berlin
BEGIN:STANDARD
DTSTART:20241215T193000
RDATE:20250330T030000
TZOFFSETFROM:+0200
TZOFFSETTO:+0100
TZNAME:Europe/Berlin CET
END:STANDARD
BEGIN:STANDARD
DTSTART:20251026T020000
RDATE:20260329T030000
TZOFFSETFROM:+0200
TZOFFSETTO:+0100
TZNAME:Europe/Berlin CET
END:STANDARD
BEGIN:STANDARD
DTSTART:20261025T020000
RDATE:20270328T030000
TZOFFSETFROM:+0200
TZOFFSETTO:+0100
TZNAME:Europe/Berlin CET
END:STANDARD
BEGIN:STANDARD
DTSTART:20271031T020000
RDATE:20280326T030000
TZOFFSETFROM:+0200
TZOFFSETTO:+0100
TZNAME:Europe/Berlin CET
END:STANDARD
BEGIN:STANDARD
DTSTART:20281029T020000
RDATE:20290325T030000
TZOFFSETFROM:+0200
TZOFFSETTO:+0100
TZNAME:Europe/Berlin CET
END:STANDARD
BEGIN:STANDARD
DTSTART:20291028T020000
RDATE:20300331T030000
TZOFFSETFROM:+0200
TZOFFSETTO:+0100
TZNAME:Europe/Berlin CET
END:STANDARD
BEGIN:STANDARD
DTSTART:20301027T020000
RDATE:20310330T030000
TZOFFSETFROM:+0200
TZOFFSETTO:+0100
TZNAME:Europe/Berlin CET
END:STANDARD
BEGIN:STANDARD
DTSTART:20311026T020000
RDATE:20320328T030000
TZOFFSETFROM:+0200
TZOFFSETTO:+0100
TZNAME:Europe/Berlin CET
END:STANDARD
BEGIN:STANDARD
DTSTART:20321031T020000
RDATE:20330327T030000
TZOFFSETFROM:+0200
TZOFFSETTO:+0100
TZNAME:Europe/Berlin CET
END:STANDARD
BEGIN:STANDARD
DTSTART:20331030T020000
RDATE:20340326T030000
TZOFFSETFROM:+0200
TZOFFSETTO:+0100
TZNAME:Europe/Berlin CET
END:STANDARD
BEGIN:STANDARD
DTSTART:20341029T020000
RDATE:20350325T030000
TZOFFSETFROM:+0200
TZOFFSETTO:+0100
TZNAME:Europe/Berlin CET
END:STANDARD
BEGIN:STANDARD
DTSTART:20351028T020000
RDATE:20360330T030000
TZOFFSETFROM:+0200
TZOFFSETTO:+0100
TZNAME:Europe/Berlin CET
END:STANDARD
BEGIN:STANDARD
DTSTART:20361026T020000
RDATE:20370329T030000
TZOFFSETFROM:+0200
TZOFFSETTO:+0100
TZNAME:Europe/Berlin CET
END:STANDARD
BEGIN:STANDARD
DTSTART:20371025T020000
TZOFFSETFROM:+0200
TZOFFSETTO:+0100
TZNAME:Europe/Berlin CET
END:STANDARD
BEGIN:DAYLIGHT
DTSTART:20250330T030000
RDATE:20251026T020000
TZOFFSETFROM:+0100
TZOFFSETTO:+0200
TZNAME:Europe/Berlin CEST
END:DAYLIGHT
BEGIN:DAYLIGHT
DTSTART:20260329T030000
RDATE:20261025T020000
TZOFFSETFROM:+0100
TZOFFSETTO:+0200
TZNAME:Europe/Berlin CEST
END:DAYLIGHT
BEGIN:DAYLIGHT
DTSTART:20270328T030000
RDATE:20271031T020000
TZOFFSETFROM:+0100
TZOFFSETTO:+0200
TZNAME:Europe/Berlin CEST
END:DAYLIGHT
BEGIN:DAYLIGHT
DTSTART:20280326T030000
RDATE:20281029T020000
TZOFFSETFROM:+0100
TZOFFSETTO:+0200
TZNAME:Europe/Berlin CEST
END:DAYLIGHT
BEGIN:DAYLIGHT
DTSTART:20290325T030000
RDATE:20291028T020000
TZOFFSETFROM:+0100
TZOFFSETTO:+0200
TZNAME:Europe/Berlin CEST
END:DAYLIGHT
BEGIN:DAYLIGHT
DTSTART:20300331T030000
RDATE:20301027T020000
TZOFFSETFROM:+0100
TZOFFSETTO:+0200
TZNAME:Europe/Berlin CEST
END:DAYLIGHT
BEGIN:DAYLIGHT
DTSTART:20310330T030000
RDATE:20311026T020000
TZOFFSETFROM:+0100
TZOFFSETTO:+0200
TZNAME:Europe/Berlin CEST
END:DAYLIGHT
BEGIN:DAYLIGHT
DTSTART:20320328T030000
RDATE:20321031T020000
TZOFFSETFROM:+0100
TZOFFSETTO:+0200
TZNAME:Europe/Berlin CEST
END:DAYLIGHT
BEGIN:DAYLIGHT
DTSTART:20330327T030000
RDATE:20331030T020000
TZOFFSETFROM:+0100
TZOFFSETTO:+0200
TZNAME:Europe/Berlin CEST
END:DAYLIGHT
BEGIN:DAYLIGHT
DTSTART:20340326T030000
RDATE:20341029T020000
TZOFFSETFROM:+0100
TZOFFSETTO:+0200
TZNAME:Europe/Berlin CEST
END:DAYLIGHT
BEGIN:DAYLIGHT
DTSTART:20350325T030000
RDATE:20351028T020000
TZOFFSETFROM:+0100
TZOFFSETTO:+0200
TZNAME:Europe/Berlin CEST
END:DAYLIGHT
BEGIN:DAYLIGHT
DTSTART:20360330T030000
RDATE:20361026T020000
TZOFFSETFROM:+0100
TZOFFSETTO:+0200
TZNAME:Europe/Berlin CEST
END:DAYLIGHT
BEGIN:DAYLIGHT
DTSTART:20370329T030000
RDATE:20371025T020000
TZOFFSETFROM:+0100
TZOFFSETTO:+0200
TZNAME:Europe/Berlin CEST
END:DAYLIGHT
END:VTIMEZONE
BEGIN:VEVENT
UID:3ece76a0a7b6bbd7cf80afc15c4d375c
CATEGORIES:Regionalgruppe Nürnberg
CREATED:20241212T230535
SUMMARY:DGS-3D-Stereotreff Nürnberg
DESCRIPTION:Liebe Stereofreunde,\nhiermit laden wir Euch am 16.12.2025 zu unserem Weihn
 achtstreffen des DGS-3D-Stereotreff Nürnberg ein.\nWir treffen uns ab 18:00
  Uhr in der Vereinsgaststätte des DJK Eibach in der Pommernstr. 12, 90451 N
 ürnberg zum gemeinsamen Abendessen - ein Tisch ist reserviert.\nAb 19.30 Uh
 r sind wir dann im Kulturladen Röthenbach, Röthenbacher Hauptstraße 74, 904
 49 Nürnberg zu Gast.\nGemeinsam wollen wir die weihnachtliche Stimmung geni
 eßen und das Jahr 2025 ausklingen lassen. Wer mag, möge bitte weihnachtlich
 es Gebäck und Getränke sowie "gute Laune" mitbringen. Ferner wird um Projek
 tionsmaterial (Stereobilder und 3D-Shows) für den Abend gebeten.\nDa nicht 
 alle Mitglieder des DGS-3D-Stereotreff Nürnberg bei unserem November-Treffe
 n dabei waren, möchte ich Euch dazu einladen an unserem diesjährigen Jahres
 thema dennoch teilzunehmen.\nEs sind alle Mitglieder aufgerufen Stereobilde
 r und Videosequenzen zum Jahresthema "Straßen" einzureichen. Wer weder zum 
 unserem Weihnachtstreffen, noch zum ersten Termin im neuen Jahr am 27.01.20
 25 kommen kann, kann mir seine Bilder als Email-Anhang (max. 32 MB) oder pe
 r Cloud-Zugang zukommen lassen.\nZur Erinnerung:\nEs werden Bilder und Vide
 osequenzen zum Thema "Straßen" gesucht. Hierbei sind nicht nur Bilder von S
 traßen gesucht - sondern auch alles was sich am Wegesrand einer Straße find
 en lässt...\nIm Idealfall sollten die Bilder im 16:9-Format vorliegen - Bil
 der in anderen Formate sind ebenfalls willkommen, müssen aber je nach Bedar
 f beschnitten oder maskiert werden. Die Bilder und Videosequenzen sollten m
 indesten in FullHD-Auflösung (1920 x 1080 Bildpunkten) vorliegen. Eine höhe
 re Bildauflösungen ist wünschenswert, damit auch Kamerafahrten bei Standbil
 dern technisch möglich sind.\nIch hoffe auf eine rege Teilnahme und wünsche
  Euch allen eine angenehme Weihnachtszeit, ein schönes Fest und vorab einen
  "guten Rutsch"...\nMit freundlichen Grüßen\nKai Rechtenbach\n1. Vorsitzend
 er des DGS-3D-Stereotreff Nürnberg\n
X-ALT-DESC;FMTTYPE=text/html:<p>Liebe Stereofreunde,</p><p>hiermit laden wir Euch am 16.12.2025 zu unser
 em Weihnachtstreffen des DGS-3D-Stereotreff Nürnberg ein.</p><p>Wir treffen
  uns ab 18:00 Uhr in der Vereinsgaststätte des DJK Eibach in der Pommernstr
 . 12, 90451 Nürnberg zum gemeinsamen Abendessen - ein Tisch ist reserviert.
 </p><p>Ab 19.30 Uhr sind wir dann im Kulturladen Röthenbach, Röthenbacher H
 auptstraße 74, 90449 Nürnberg zu Gast.</p><p>Gemeinsam wollen wir die weihn
 achtliche Stimmung genießen und das Jahr 2025 ausklingen lassen. Wer mag, m
 öge bitte weihnachtliches Gebäck und Getränke sowie "gute Laune" mitbringen
 .&nbsp;Ferner wird um Projektionsmaterial (Stereobilder und 3D-Shows) für d
 en Abend gebeten.</p><p>Da nicht alle Mitglieder des DGS-3D-Stereotreff Nür
 nberg bei unserem November-Treffen dabei waren, möchte ich Euch dazu einlad
 en an unserem diesjährigen Jahresthema dennoch teilzunehmen.</p><p>Es sind 
 alle Mitglieder aufgerufen Stereobilder und Videosequenzen zum Jahresthema 
 "Straßen" einzureichen. Wer weder zum unserem Weihnachtstreffen, noch zum e
 rsten Termin im neuen Jahr am 27.01.2025 kommen kann, kann mir seine Bilder
  als Email-Anhang (max. 32 MB) oder per Cloud-Zugang zukommen lassen.</p><p
 >Zur Erinnerung:</p><p>Es werden Bilder und Videosequenzen zum Thema "Straß
 en" gesucht. Hierbei sind nicht nur Bilder von Straßen gesucht - sondern au
 ch alles was sich am Wegesrand einer Straße finden lässt...</p><p>Im Idealf
 all sollten die Bilder im 16:9-Format vorliegen - Bilder in anderen Formate
  sind ebenfalls willkommen, müssen aber je nach Bedarf beschnitten oder mas
 kiert werden. Die Bilder und Videosequenzen sollten mindesten in FullHD-Auf
 lösung (1920 x 1080 Bildpunkten) vorliegen. Eine höhere Bildauflösungen ist
  wünschenswert, damit auch Kamerafahrten bei Standbildern technisch möglich
  sind.</p><p>Ich hoffe auf eine rege Teilnahme und wünsche Euch allen eine 
 angenehme Weihnachtszeit, ein schönes Fest und vorab einen "guten Rutsch"..
 .</p><p>Mit freundlichen Grüßen</p><p>Kai Rechtenbach</p><p>1. Vorsitzender
  des DGS-3D-Stereotreff Nürnberg</p>
DTSTAMP:20260423T062358
DTSTART;TZID=Europe/Berlin:20251216T193000
DTEND;TZID=Europe/Berlin:20251216T220000
SEQUENCE:0
TRANSP:OPAQUE
END:VEVENT
END:VCALENDAR