BEGIN:VCALENDAR
VERSION:2.0
PRODID:-//jEvents 2.0 for Joomla//EN
CALSCALE:GREGORIAN
METHOD:PUBLISH
BEGIN:VTIMEZONE
TZID:Europe/Berlin
BEGIN:STANDARD
DTSTART:20241027T020000
RDATE:20250330T030000
TZOFFSETFROM:+0200
TZOFFSETTO:+0100
TZNAME:Europe/Berlin CET
END:STANDARD
BEGIN:STANDARD
DTSTART:20251026T020000
RDATE:20260329T030000
TZOFFSETFROM:+0200
TZOFFSETTO:+0100
TZNAME:Europe/Berlin CET
END:STANDARD
BEGIN:STANDARD
DTSTART:20261025T020000
RDATE:20270328T030000
TZOFFSETFROM:+0200
TZOFFSETTO:+0100
TZNAME:Europe/Berlin CET
END:STANDARD
BEGIN:STANDARD
DTSTART:20271031T020000
RDATE:20280326T030000
TZOFFSETFROM:+0200
TZOFFSETTO:+0100
TZNAME:Europe/Berlin CET
END:STANDARD
BEGIN:STANDARD
DTSTART:20281029T020000
RDATE:20290325T030000
TZOFFSETFROM:+0200
TZOFFSETTO:+0100
TZNAME:Europe/Berlin CET
END:STANDARD
BEGIN:STANDARD
DTSTART:20291028T020000
RDATE:20300331T030000
TZOFFSETFROM:+0200
TZOFFSETTO:+0100
TZNAME:Europe/Berlin CET
END:STANDARD
BEGIN:STANDARD
DTSTART:20301027T020000
RDATE:20310330T030000
TZOFFSETFROM:+0200
TZOFFSETTO:+0100
TZNAME:Europe/Berlin CET
END:STANDARD
BEGIN:STANDARD
DTSTART:20311026T020000
RDATE:20320328T030000
TZOFFSETFROM:+0200
TZOFFSETTO:+0100
TZNAME:Europe/Berlin CET
END:STANDARD
BEGIN:STANDARD
DTSTART:20321031T020000
RDATE:20330327T030000
TZOFFSETFROM:+0200
TZOFFSETTO:+0100
TZNAME:Europe/Berlin CET
END:STANDARD
BEGIN:STANDARD
DTSTART:20331030T020000
RDATE:20340326T030000
TZOFFSETFROM:+0200
TZOFFSETTO:+0100
TZNAME:Europe/Berlin CET
END:STANDARD
BEGIN:STANDARD
DTSTART:20341029T020000
RDATE:20350325T030000
TZOFFSETFROM:+0200
TZOFFSETTO:+0100
TZNAME:Europe/Berlin CET
END:STANDARD
BEGIN:STANDARD
DTSTART:20351028T020000
RDATE:20360330T030000
TZOFFSETFROM:+0200
TZOFFSETTO:+0100
TZNAME:Europe/Berlin CET
END:STANDARD
BEGIN:STANDARD
DTSTART:20361026T020000
RDATE:20370329T030000
TZOFFSETFROM:+0200
TZOFFSETTO:+0100
TZNAME:Europe/Berlin CET
END:STANDARD
BEGIN:STANDARD
DTSTART:20371025T020000
TZOFFSETFROM:+0200
TZOFFSETTO:+0100
TZNAME:Europe/Berlin CET
END:STANDARD
BEGIN:DAYLIGHT
DTSTART:20240728T193000
RDATE:20241027T020000
TZOFFSETFROM:+0100
TZOFFSETTO:+0200
TZNAME:Europe/Berlin CEST
END:DAYLIGHT
BEGIN:DAYLIGHT
DTSTART:20250330T030000
RDATE:20251026T020000
TZOFFSETFROM:+0100
TZOFFSETTO:+0200
TZNAME:Europe/Berlin CEST
END:DAYLIGHT
BEGIN:DAYLIGHT
DTSTART:20260329T030000
RDATE:20261025T020000
TZOFFSETFROM:+0100
TZOFFSETTO:+0200
TZNAME:Europe/Berlin CEST
END:DAYLIGHT
BEGIN:DAYLIGHT
DTSTART:20270328T030000
RDATE:20271031T020000
TZOFFSETFROM:+0100
TZOFFSETTO:+0200
TZNAME:Europe/Berlin CEST
END:DAYLIGHT
BEGIN:DAYLIGHT
DTSTART:20280326T030000
RDATE:20281029T020000
TZOFFSETFROM:+0100
TZOFFSETTO:+0200
TZNAME:Europe/Berlin CEST
END:DAYLIGHT
BEGIN:DAYLIGHT
DTSTART:20290325T030000
RDATE:20291028T020000
TZOFFSETFROM:+0100
TZOFFSETTO:+0200
TZNAME:Europe/Berlin CEST
END:DAYLIGHT
BEGIN:DAYLIGHT
DTSTART:20300331T030000
RDATE:20301027T020000
TZOFFSETFROM:+0100
TZOFFSETTO:+0200
TZNAME:Europe/Berlin CEST
END:DAYLIGHT
BEGIN:DAYLIGHT
DTSTART:20310330T030000
RDATE:20311026T020000
TZOFFSETFROM:+0100
TZOFFSETTO:+0200
TZNAME:Europe/Berlin CEST
END:DAYLIGHT
BEGIN:DAYLIGHT
DTSTART:20320328T030000
RDATE:20321031T020000
TZOFFSETFROM:+0100
TZOFFSETTO:+0200
TZNAME:Europe/Berlin CEST
END:DAYLIGHT
BEGIN:DAYLIGHT
DTSTART:20330327T030000
RDATE:20331030T020000
TZOFFSETFROM:+0100
TZOFFSETTO:+0200
TZNAME:Europe/Berlin CEST
END:DAYLIGHT
BEGIN:DAYLIGHT
DTSTART:20340326T030000
RDATE:20341029T020000
TZOFFSETFROM:+0100
TZOFFSETTO:+0200
TZNAME:Europe/Berlin CEST
END:DAYLIGHT
BEGIN:DAYLIGHT
DTSTART:20350325T030000
RDATE:20351028T020000
TZOFFSETFROM:+0100
TZOFFSETTO:+0200
TZNAME:Europe/Berlin CEST
END:DAYLIGHT
BEGIN:DAYLIGHT
DTSTART:20360330T030000
RDATE:20361026T020000
TZOFFSETFROM:+0100
TZOFFSETTO:+0200
TZNAME:Europe/Berlin CEST
END:DAYLIGHT
BEGIN:DAYLIGHT
DTSTART:20370329T030000
RDATE:20371025T020000
TZOFFSETFROM:+0100
TZOFFSETTO:+0200
TZNAME:Europe/Berlin CEST
END:DAYLIGHT
END:VTIMEZONE
BEGIN:VEVENT
UID:373df77910fa4f08eeb3932b0d723740
CATEGORIES:Regionalgruppe Nürnberg
CREATED:20241212T230142
SUMMARY:DGS-3D-Stereotreff Nürnberg
DESCRIPTION:Liebe Stereofreunde,\nhiermit laden wir Euch zum Mai-Treffen am Dienstag de
 n 29.07.2025 ein.\nWir treffen uns ab 18:00 Uhr in der Vereinsgaststätte de
 s DJK Eibach in der Pommernstr. 12, 90451 Nürnberg zum gemeinsamen Abendess
 en.\nAb 19.30 Uhr sind wir dann im Kulturladen Röthenbach, Röthenbacher Hau
 ptstraße 74, 90449 Nürnberg zu Gast.\nUnser aktueller Termin steht im Zeich
 en eines Workshops zum Thema Justage von Stereobildern.\nDie korrekte Justa
 ge von Stereobildern ist das A und O in der Praxis der Stereofotografie. Oh
 ne selbige kann zwar ein Stereobild perfekt aufgenommen werden, aber ohne s
 elbige ist eine augenfreundliche und erlebnisreiche Betrachtung von Stereob
 ildern kaum möglich.\nUnser gemeinsamer Workshop richtet sich an alle, die 
 mit Hilfe der Freeware-Software StereoPhotoMaker Pro (64bit) Version 6.31 v
 on Masuji Stuto, David Sykes und Werner Bloos ihre digitalen Stereobilder k
 orrekt justieren wollen.\nDa man am besten am eigenen Bildmaterial die Just
 age von Stereobildern erlernen kann, sind alle Teilnehmer des Workshops auf
 gerufen eigenes Bildmaterial für die gemeinsame Justage mitzubringen.\nDer 
 Workshop richtet sich sowohl an unerfahrene Anwender als auch an "alte Hase
 n". Gemeinsam wollen wir die Möglichkeiten und aber auch Grenzen des Stereo
 PhotoMakers Pro ausloten.\nIch hoffe auf eine rege Teilnahme und wünsche Eu
 ch allen "eine gute Zeit".\nMit freundlichen Grüßen\nKai Rechtenbach\n1. Vo
 rsitzender des DGS-3D-Stereotreff Nürnberg\n
X-ALT-DESC;FMTTYPE=text/html:<p>Liebe Stereofreunde,</p><p>hiermit laden wir Euch zum Mai-Treffen am Die
 nstag den 29.07.2025 ein.</p><p>Wir treffen uns ab 18:00 Uhr in der Vereins
 gaststätte des DJK Eibach in der Pommernstr. 12, 90451 Nürnberg zum gemeins
 amen Abendessen.</p><p>Ab 19.30 Uhr sind wir dann im Kulturladen Röthenbach
 , Röthenbacher Hauptstraße 74, 90449 Nürnberg zu Gast.</p><p>Unser aktuelle
 r Termin steht im Zeichen eines Workshops zum Thema Justage von Stereobilde
 rn.</p><p>Die korrekte Justage von Stereobildern ist das A und O in der Pra
 xis der Stereofotografie. Ohne selbige kann zwar ein Stereobild perfekt auf
 genommen werden, aber ohne selbige ist eine augenfreundliche und erlebnisre
 iche Betrachtung von Stereobildern kaum möglich.</p><p>Unser gemeinsamer Wo
 rkshop richtet sich an alle, die mit Hilfe der Freeware-Software StereoPhot
 oMaker Pro (64bit) Version 6.31 von Masuji Stuto, David Sykes und Werner Bl
 oos ihre digitalen Stereobilder korrekt justieren wollen.</p><p>Da man am b
 esten am eigenen Bildmaterial die Justage von Stereobildern erlernen kann, 
 sind alle Teilnehmer des Workshops aufgerufen eigenes Bildmaterial für die 
 gemeinsame Justage mitzubringen.</p><p>Der Workshop richtet sich sowohl an 
 unerfahrene Anwender als auch an "alte Hasen". Gemeinsam wollen wir die Mög
 lichkeiten und aber auch Grenzen des StereoPhotoMakers Pro ausloten.</p><p>
 Ich hoffe auf eine rege Teilnahme und wünsche Euch allen "eine gute Zeit".<
 /p><p>Mit freundlichen Grüßen</p><p>Kai Rechtenbach</p><p>1. Vorsitzender d
 es DGS-3D-Stereotreff Nürnberg</p>
DTSTAMP:20260424T230323
DTSTART;TZID=Europe/Berlin:20250729T193000
DTEND;TZID=Europe/Berlin:20250729T220000
SEQUENCE:0
TRANSP:OPAQUE
END:VEVENT
END:VCALENDAR